Package: AnnotationDbi Version: 1.69.0 Command: /Library/Frameworks/R.framework/Resources/bin/R CMD INSTALL AnnotationDbi StartedAt: 2025-02-04 15:07:10 -0500 (Tue, 04 Feb 2025) EndedAt: 2025-02-04 15:07:18 -0500 (Tue, 04 Feb 2025) EllapsedTime: 7.5 seconds RetCode: 0 Status: OK