Package: AnnotationDbi Version: 1.69.0 Command: /Library/Frameworks/R.framework/Resources/bin/R CMD build --keep-empty-dirs --no-resave-data AnnotationDbi StartedAt: 2025-02-09 15:53:40 -0500 (Sun, 09 Feb 2025) EndedAt: 2025-02-09 15:55:01 -0500 (Sun, 09 Feb 2025) EllapsedTime: 80.2 seconds RetCode: 0 Status: OK PackageFile: AnnotationDbi_1.69.0.tar.gz PackageFileSize: 4.172 MiB