Package: AnnotationDbi Version: 1.69.0 Command: /Library/Frameworks/R.framework/Resources/bin/R CMD INSTALL AnnotationDbi StartedAt: 2025-02-09 15:13:01 -0500 (Sun, 09 Feb 2025) EndedAt: 2025-02-09 15:13:31 -0500 (Sun, 09 Feb 2025) EllapsedTime: 29.8 seconds RetCode: 0 Status: OK