Package: AnnotationDbi Version: 1.69.0 Command: /home/biocbuild/bbs-3.21-bioc/R/bin/R CMD build --keep-empty-dirs --no-resave-data AnnotationDbi StartedAt: 2025-02-09 16:08:44 -0500 (Sun, 09 Feb 2025) EndedAt: 2025-02-09 16:09:38 -0500 (Sun, 09 Feb 2025) EllapsedTime: 54.1 seconds RetCode: 0 Status: OK PackageFile: AnnotationDbi_1.69.0.tar.gz PackageFileSize: 4.172 MiB