Package: AnnotationDbi Version: 1.69.0 Command: /home/biocbuild/bbs-3.21-bioc/R/bin/R CMD check --install=check:AnnotationDbi.install-out.txt --library=/home/biocbuild/bbs-3.21-bioc/R/site-library --timings AnnotationDbi_1.69.0.tar.gz StartedAt: 2025-02-04 19:57:45 -0500 (Tue, 04 Feb 2025) EndedAt: 2025-02-04 20:04:58 -0500 (Tue, 04 Feb 2025) EllapsedTime: 433.8 seconds RetCode: 0 Status: WARNINGS CheckDir: AnnotationDbi.Rcheck Warnings: 1