Package: AnnotationDbi Version: 1.69.0 Command: /home/biocbuild/bbs-3.21-bioc/R/bin/R CMD INSTALL AnnotationDbi StartedAt: 2025-02-09 15:24:31 -0500 (Sun, 09 Feb 2025) EndedAt: 2025-02-09 15:24:50 -0500 (Sun, 09 Feb 2025) EllapsedTime: 19.3 seconds RetCode: 0 Status: OK