Package: AnnotationDbi Version: 1.69.0 Command: rm -rf AnnotationDbi.buildbin-libdir && mkdir AnnotationDbi.buildbin-libdir && E:\biocbuild\bbs-3.21-bioc\R\bin\R.exe CMD INSTALL --build --library=AnnotationDbi.buildbin-libdir AnnotationDbi_1.69.0.tar.gz StartedAt: 2025-02-10 07:12:18 -0500 (Mon, 10 Feb 2025) EndedAt: 2025-02-10 07:15:50 -0500 (Mon, 10 Feb 2025) EllapsedTime: 212.7 seconds RetCode: 0 Status: OK PackageFile: AnnotationDbi_1.69.0.zip PackageFileSize: 5.038 MiB