Package: AnnotationDbi Version: 1.69.0 Command: chmod a+r AnnotationDbi -R && E:\biocbuild\bbs-3.21-bioc\R\bin\R.exe CMD build --keep-empty-dirs --no-resave-data AnnotationDbi StartedAt: 2025-02-12 17:14:02 -0500 (Wed, 12 Feb 2025) EndedAt: 2025-02-12 17:17:37 -0500 (Wed, 12 Feb 2025) EllapsedTime: 215.2 seconds RetCode: 0 Status: OK PackageFile: AnnotationDbi_1.69.0.tar.gz PackageFileSize: 4.161 MiB