Package: AnnotationDbi Version: 1.69.0 Command: E:\biocbuild\bbs-3.21-bioc\R\bin\R.exe CMD check --no-multiarch --install=check:AnnotationDbi.install-out.txt --library=E:\biocbuild\bbs-3.21-bioc\R\library --no-vignettes --timings AnnotationDbi_1.69.0.tar.gz StartedAt: 2025-02-12 22:44:21 -0500 (Wed, 12 Feb 2025) EndedAt: 2025-02-12 22:53:16 -0500 (Wed, 12 Feb 2025) EllapsedTime: 535.1 seconds RetCode: 0 Status: WARNINGS CheckDir: AnnotationDbi.Rcheck Warnings: 1