Package: AnnotationDbi Version: 1.69.0 Command: E:\biocbuild\bbs-3.21-bioc\R\bin\R.exe CMD INSTALL AnnotationDbi StartedAt: 2025-02-12 15:41:27 -0500 (Wed, 12 Feb 2025) EndedAt: 2025-02-12 15:45:42 -0500 (Wed, 12 Feb 2025) EllapsedTime: 254.9 seconds RetCode: 0 Status: OK