Package: AnnotationForge Version: 1.49.0 Command: /Library/Frameworks/R.framework/Resources/bin/R CMD check --install=check:AnnotationForge.install-out.txt --library=/Library/Frameworks/R.framework/Resources/library --no-vignettes --timings AnnotationForge_1.49.0.tar.gz StartedAt: 2025-02-12 18:03:31 -0500 (Wed, 12 Feb 2025) EndedAt: 2025-02-12 18:04:16 -0500 (Wed, 12 Feb 2025) EllapsedTime: 45.6 seconds RetCode: 0 Status: OK CheckDir: AnnotationForge.Rcheck Warnings: 0