Package: AnnotationForge Version: 1.49.0 Command: /Library/Frameworks/R.framework/Resources/bin/R CMD INSTALL AnnotationForge StartedAt: 2025-02-09 15:15:12 -0500 (Sun, 09 Feb 2025) EndedAt: 2025-02-09 15:15:37 -0500 (Sun, 09 Feb 2025) EllapsedTime: 25.0 seconds RetCode: 0 Status: OK