Package: AnnotationForge Version: 1.49.0 Command: /home/biocbuild/bbs-3.21-bioc/R/bin/R CMD INSTALL AnnotationForge StartedAt: 2025-02-09 15:25:07 -0500 (Sun, 09 Feb 2025) EndedAt: 2025-02-09 15:25:23 -0500 (Sun, 09 Feb 2025) EllapsedTime: 16.6 seconds RetCode: 0 Status: OK