Package: AnnotationForge Version: 1.49.0 Command: chmod a+r AnnotationForge -R && E:\biocbuild\bbs-3.21-bioc\R\bin\R.exe CMD build --keep-empty-dirs --no-resave-data AnnotationForge StartedAt: 2025-02-09 17:13:06 -0500 (Sun, 09 Feb 2025) EndedAt: 2025-02-09 17:18:25 -0500 (Sun, 09 Feb 2025) EllapsedTime: 319.3 seconds RetCode: 0 Status: OK PackageFile: AnnotationForge_1.49.0.tar.gz PackageFileSize: 3.814 MiB