Package: AnnotationHubData Version: 1.37.0 Command: rm -rf AnnotationHubData.buildbin-libdir && mkdir AnnotationHubData.buildbin-libdir && /Users/biocbuild/BBS/utils/build-universal.sh AnnotationHubData_1.37.0.tar.gz /Library/Frameworks/R.framework/Resources/bin/R AnnotationHubData.buildbin-libdir StartedAt: 2025-02-09 22:05:49 -0500 (Sun, 09 Feb 2025) EndedAt: 2025-02-09 22:06:08 -0500 (Sun, 09 Feb 2025) EllapsedTime: 18.5 seconds RetCode: 0 Status: OK PackageFile: AnnotationHubData_1.37.0.tgz PackageFileSize: 938.5 KiB