Package: AnnotationHubData Version: 1.37.0 Command: /Library/Frameworks/R.framework/Resources/bin/R CMD build --keep-empty-dirs --no-resave-data AnnotationHubData StartedAt: 2025-02-09 15:33:08 -0500 (Sun, 09 Feb 2025) EndedAt: 2025-02-09 15:33:26 -0500 (Sun, 09 Feb 2025) EllapsedTime: 17.2 seconds RetCode: 0 Status: OK PackageFile: AnnotationHubData_1.37.0.tar.gz PackageFileSize: 400.4 KiB