Package: AnnotationHubData Version: 1.37.0 Command: /home/biocbuild/R/R/bin/R CMD INSTALL AnnotationHubData StartedAt: 2025-01-29 20:04:02 -0000 (Wed, 29 Jan 2025) EndedAt: 2025-01-29 20:04:59 -0000 (Wed, 29 Jan 2025) EllapsedTime: 57.3 seconds RetCode: 0 Status: OK