Package: AnnotationHubData Version: 1.37.0 Command: /Library/Frameworks/R.framework/Resources/bin/R CMD build --keep-empty-dirs --no-resave-data AnnotationHubData StartedAt: 2025-02-04 15:52:03 -0500 (Tue, 04 Feb 2025) EndedAt: 2025-02-04 15:52:50 -0500 (Tue, 04 Feb 2025) EllapsedTime: 47.0 seconds RetCode: 0 Status: OK PackageFile: AnnotationHubData_1.37.0.tar.gz PackageFileSize: 400.4 KiB