Package: AnnotationHubData Version: 1.37.0 Command: /Library/Frameworks/R.framework/Resources/bin/R CMD check --install=check:AnnotationHubData.install-out.txt --library=/Library/Frameworks/R.framework/Resources/library --no-vignettes --timings AnnotationHubData_1.37.0.tar.gz StartedAt: 2025-02-04 18:54:56 -0500 (Tue, 04 Feb 2025) EndedAt: 2025-02-04 19:05:51 -0500 (Tue, 04 Feb 2025) EllapsedTime: 655.4 seconds RetCode: 0 Status: WARNINGS CheckDir: AnnotationHubData.Rcheck Warnings: 1