Package: AnnotationHubData Version: 1.37.0 Command: /home/biocbuild/bbs-3.21-bioc/R/bin/R CMD build --keep-empty-dirs --no-resave-data AnnotationHubData StartedAt: 2025-02-04 16:07:09 -0500 (Tue, 04 Feb 2025) EndedAt: 2025-02-04 16:07:51 -0500 (Tue, 04 Feb 2025) EllapsedTime: 42.1 seconds RetCode: 0 Status: OK PackageFile: AnnotationHubData_1.37.0.tar.gz PackageFileSize: 400.4 KiB