Package: AnnotationHubData Version: 1.37.0 Command: /home/biocbuild/bbs-3.21-bioc/R/bin/R CMD check --install=check:AnnotationHubData.install-out.txt --library=/home/biocbuild/bbs-3.21-bioc/R/site-library --timings AnnotationHubData_1.37.0.tar.gz StartedAt: 2025-02-04 19:58:12 -0500 (Tue, 04 Feb 2025) EndedAt: 2025-02-04 20:07:24 -0500 (Tue, 04 Feb 2025) EllapsedTime: 551.9 seconds RetCode: 0 Status: WARNINGS CheckDir: AnnotationHubData.Rcheck Warnings: 1