Package: AnnotationHubData Version: 1.37.0 Command: /home/biocbuild/bbs-3.21-bioc/R/bin/R CMD INSTALL AnnotationHubData StartedAt: 2025-02-04 15:38:02 -0500 (Tue, 04 Feb 2025) EndedAt: 2025-02-04 15:38:45 -0500 (Tue, 04 Feb 2025) EllapsedTime: 42.8 seconds RetCode: 0 Status: OK