Package: AnnotationHubData Version: 1.37.0 Command: rm -rf AnnotationHubData.buildbin-libdir && mkdir AnnotationHubData.buildbin-libdir && E:\biocbuild\bbs-3.21-bioc\R\bin\R.exe CMD INSTALL --build --library=AnnotationHubData.buildbin-libdir AnnotationHubData_1.37.0.tar.gz StartedAt: 2025-02-10 07:12:24 -0500 (Mon, 10 Feb 2025) EndedAt: 2025-02-10 07:18:26 -0500 (Mon, 10 Feb 2025) EllapsedTime: 361.8 seconds RetCode: 0 Status: OK PackageFile: AnnotationHubData_1.37.0.zip PackageFileSize: 941 KiB