Package: AnnotationHubData Version: 1.37.0 Command: chmod a+r AnnotationHubData -R && E:\biocbuild\bbs-3.21-bioc\R\bin\R.exe CMD build --keep-empty-dirs --no-resave-data AnnotationHubData StartedAt: 2025-02-09 17:13:15 -0500 (Sun, 09 Feb 2025) EndedAt: 2025-02-09 17:15:57 -0500 (Sun, 09 Feb 2025) EllapsedTime: 162.2 seconds RetCode: 0 Status: OK PackageFile: AnnotationHubData_1.37.0.tar.gz PackageFileSize: 400.5 KiB