Package: AnnotationHubData Version: 1.37.0 Command: E:\biocbuild\bbs-3.21-bioc\R\bin\R.exe CMD check --no-multiarch --install=check:AnnotationHubData.install-out.txt --library=E:\biocbuild\bbs-3.21-bioc\R\library --no-vignettes --timings AnnotationHubData_1.37.0.tar.gz StartedAt: 2025-02-09 22:36:39 -0500 (Sun, 09 Feb 2025) EndedAt: 2025-02-09 22:47:10 -0500 (Sun, 09 Feb 2025) EllapsedTime: 631.3 seconds RetCode: 0 Status: WARNINGS CheckDir: AnnotationHubData.Rcheck Warnings: 1