Package: AnnotationHubData Version: 1.37.0 Command: E:\biocbuild\bbs-3.21-bioc\R\bin\R.exe CMD INSTALL AnnotationHubData StartedAt: 2025-02-09 16:30:26 -0500 (Sun, 09 Feb 2025) EndedAt: 2025-02-09 16:33:24 -0500 (Sun, 09 Feb 2025) EllapsedTime: 178.8 seconds RetCode: 0 Status: OK