############################################################################## ############################################################################## ### ### Running command: ### ### /home/biocbuild/R/R/bin/R CMD build --keep-empty-dirs --no-resave-data ArrayExpress ### ############################################################################## ############################################################################## * checking for file ‘ArrayExpress/DESCRIPTION’ ... OK * preparing ‘ArrayExpress’: * checking DESCRIPTION meta-information ... OK * installing the package to build vignettes ----------------------------------- ERROR: dependency ‘oligo’ is not available for package ‘ArrayExpress’ Perhaps try a variation of: install.packages('oligo') * removing ‘/home/biocbuild/tmp/RtmpcvQZJX/Rinst19632ce1973e9/ArrayExpress’ ----------------------------------- ERROR: package installation failed