Package: ArrayExpress Version: 1.67.0 Command: /home/biocbuild/R/R/bin/R CMD build --keep-empty-dirs --no-resave-data ArrayExpress StartedAt: 2025-01-29 20:51:14 -0000 (Wed, 29 Jan 2025) EndedAt: 2025-01-29 20:51:15 -0000 (Wed, 29 Jan 2025) EllapsedTime: 1.0 seconds RetCode: 1 Status: ERROR PackageFile: None PackageFileSize: NA