Package: ArrayExpress Version: 1.67.0 Command: /home/biocbuild/R/R/bin/R CMD INSTALL ArrayExpress StartedAt: 2025-01-29 19:45:38 -0000 (Wed, 29 Jan 2025) EndedAt: 2025-01-29 19:45:39 -0000 (Wed, 29 Jan 2025) EllapsedTime: 1.1 seconds RetCode: 1 Status: ERROR