Package: ArrayExpress Version: 1.67.0 Command: /Library/Frameworks/R.framework/Resources/bin/R CMD INSTALL ArrayExpress StartedAt: 2025-02-04 15:13:52 -0500 (Tue, 04 Feb 2025) EndedAt: 2025-02-04 15:13:55 -0500 (Tue, 04 Feb 2025) EllapsedTime: 2.9 seconds RetCode: 1 Status: ERROR