Package: ArrayExpress Version: 1.67.0 Command: chmod a+r ArrayExpress -R && E:\biocbuild\bbs-3.21-bioc\R\bin\R.exe CMD build --keep-empty-dirs --no-resave-data ArrayExpress StartedAt: 2025-02-04 17:12:20 -0500 (Tue, 04 Feb 2025) EndedAt: 2025-02-04 17:15:06 -0500 (Tue, 04 Feb 2025) EllapsedTime: 166.8 seconds RetCode: 0 Status: OK PackageFile: ArrayExpress_1.67.0.tar.gz PackageFileSize: 137.5 KiB