Package: ArrayExpress Version: 1.67.0 Command: E:\biocbuild\bbs-3.21-bioc\R\bin\R.exe CMD check --no-multiarch --install=check:ArrayExpress.install-out.txt --library=E:\biocbuild\bbs-3.21-bioc\R\library --no-vignettes --timings ArrayExpress_1.67.0.tar.gz StartedAt: 2025-02-04 23:04:59 -0500 (Tue, 04 Feb 2025) EndedAt: 2025-02-04 23:10:52 -0500 (Tue, 04 Feb 2025) EllapsedTime: 353.3 seconds RetCode: 0 Status: OK CheckDir: ArrayExpress.Rcheck Warnings: 0