Package: BANDITS Version: 1.23.0 Command: /Library/Frameworks/R.framework/Resources/bin/R CMD check --install=check:BANDITS.install-out.txt --library=/Library/Frameworks/R.framework/Resources/library --no-vignettes --timings BANDITS_1.23.0.tar.gz StartedAt: 2025-02-09 18:07:47 -0500 (Sun, 09 Feb 2025) EndedAt: 2025-02-09 18:08:48 -0500 (Sun, 09 Feb 2025) EllapsedTime: 61.7 seconds RetCode: 0 Status: OK CheckDir: BANDITS.Rcheck Warnings: 0