Package: BANDITS Version: 1.23.0 Command: /home/biocbuild/R/R/bin/R CMD build --keep-empty-dirs --no-resave-data BANDITS StartedAt: 2025-01-29 20:58:20 -0000 (Wed, 29 Jan 2025) EndedAt: 2025-01-29 21:02:10 -0000 (Wed, 29 Jan 2025) EllapsedTime: 230.1 seconds RetCode: 0 Status: OK PackageFile: BANDITS_1.23.0.tar.gz PackageFileSize: 1.122 MiB