Package: BANDITS Version: 1.23.0 Command: /home/biocbuild/R/R/bin/R CMD INSTALL BANDITS StartedAt: 2025-01-29 19:59:03 -0000 (Wed, 29 Jan 2025) EndedAt: 2025-01-29 20:00:39 -0000 (Wed, 29 Jan 2025) EllapsedTime: 95.5 seconds RetCode: 0 Status: OK