Package: BANDITS Version: 1.23.0 Command: /Library/Frameworks/R.framework/Resources/bin/R CMD check --install=check:BANDITS.install-out.txt --library=/Library/Frameworks/R.framework/Resources/library --no-vignettes --timings BANDITS_1.23.0.tar.gz StartedAt: 2025-02-09 19:08:45 -0500 (Sun, 09 Feb 2025) EndedAt: 2025-02-09 19:11:42 -0500 (Sun, 09 Feb 2025) EllapsedTime: 176.5 seconds RetCode: 0 Status: OK CheckDir: BANDITS.Rcheck Warnings: 0