Package: BANDITS Version: 1.23.0 Command: /Library/Frameworks/R.framework/Resources/bin/R CMD INSTALL BANDITS StartedAt: 2025-02-09 15:14:31 -0500 (Sun, 09 Feb 2025) EndedAt: 2025-02-09 15:15:35 -0500 (Sun, 09 Feb 2025) EllapsedTime: 63.8 seconds RetCode: 0 Status: OK