Package: BANDITS Version: 1.23.0 Command: /home/biocbuild/bbs-3.21-bioc/R/bin/R CMD build --keep-empty-dirs --no-resave-data BANDITS StartedAt: 2025-02-09 16:13:12 -0500 (Sun, 09 Feb 2025) EndedAt: 2025-02-09 16:15:35 -0500 (Sun, 09 Feb 2025) EllapsedTime: 143.1 seconds RetCode: 0 Status: OK PackageFile: BANDITS_1.23.0.tar.gz PackageFileSize: 1.288 MiB