Package: BANDITS Version: 1.23.0 Command: rm -rf BANDITS.buildbin-libdir && mkdir BANDITS.buildbin-libdir && E:\biocbuild\bbs-3.21-bioc\R\bin\R.exe CMD INSTALL --build --library=BANDITS.buildbin-libdir BANDITS_1.23.0.tar.gz StartedAt: 2025-02-10 07:14:57 -0500 (Mon, 10 Feb 2025) EndedAt: 2025-02-10 07:16:14 -0500 (Mon, 10 Feb 2025) EllapsedTime: 77.9 seconds RetCode: 0 Status: OK PackageFile: BANDITS_1.23.0.zip PackageFileSize: 1.744 MiB