Package: BANDITS Version: 1.23.0 Command: chmod a+r BANDITS -R && E:\biocbuild\bbs-3.21-bioc\R\bin\R.exe CMD build --keep-empty-dirs --no-resave-data BANDITS StartedAt: 2025-02-09 17:19:43 -0500 (Sun, 09 Feb 2025) EndedAt: 2025-02-09 17:23:06 -0500 (Sun, 09 Feb 2025) EllapsedTime: 203.3 seconds RetCode: 0 Status: OK PackageFile: BANDITS_1.23.0.tar.gz PackageFileSize: 1.056 MiB