############################################################################## ############################################################################## ### ### Running command: ### ### /home/biocbuild/R/R/bin/R CMD check --install=check:BASiCS.install-out.txt --library=/home/biocbuild/R/R/site-library --no-vignettes --timings BASiCS_2.19.0.tar.gz ### ############################################################################## ############################################################################## * using log directory ‘/home/biocbuild/bbs-3.21-bioc/meat/BASiCS.Rcheck’ * using R Under development (unstable) (2024-11-24 r87369) * using platform: aarch64-unknown-linux-gnu * R was compiled by aarch64-unknown-linux-gnu-gcc (GCC) 14.2.0 GNU Fortran (GCC) 14.2.0 * running under: openEuler 24.03 (LTS) * using session charset: UTF-8 * using option ‘--no-vignettes’ * checking for file ‘BASiCS/DESCRIPTION’ ... OK * checking extension type ... Package * this is package ‘BASiCS’ version ‘2.19.0’ * package encoding: UTF-8 * checking package namespace information ... OK * checking package dependencies ... OK * checking if this is a source package ... OK * checking if there is a namespace ... OK * checking for hidden files and directories ... OK * checking for portable file names ... OK * checking for sufficient/correct file permissions ... OK * checking whether package ‘BASiCS’ can be installed ... OK * used C++ compiler: ‘aarch64-unknown-linux-gnu-g++ (GCC) 14.2.0’ * checking C++ specification ... NOTE Specified C++11: please drop specification unless essential * checking installed package size ... INFO installed size is 11.1Mb sub-directories of 1Mb or more: data 2.0Mb libs 8.1Mb * checking package directory ... OK * checking ‘build’ directory ... OK * checking DESCRIPTION meta-information ... OK * checking top-level files ... OK * checking for left-over files ... OK * checking index information ... OK * checking package subdirectories ... OK * checking code files for non-ASCII characters ... OK * checking R files for syntax errors ... OK * checking whether the package can be loaded ... OK * checking whether the package can be loaded with stated dependencies ... OK * checking whether the package can be unloaded cleanly ... OK * checking whether the namespace can be loaded with stated dependencies ... OK * checking whether the namespace can be unloaded cleanly ... OK * checking loading without being on the library search path ... OK * checking whether startup messages can be suppressed ... OK * checking dependencies in R code ... OK * checking S3 generic/method consistency ... OK * checking replacement functions ... OK * checking foreign function calls ... OK * checking R code for possible problems ... OK * checking Rd files ... OK * checking Rd metadata ... OK * checking Rd cross-references ... NOTE Found the following Rd file(s) with Rd \link{} targets missing package anchors: BASiCS_DenoisedCounts.Rd: SingleCellExperiment-class BASiCS_DenoisedRates.Rd: SingleCellExperiment-class BASiCS_DivideAndConquer.Rd: BiocParallelParam BASiCS_Draw.Rd: SingleCellExperiment-class BASiCS_Filter.Rd: SingleCellExperiment-class BASiCS_MCMC.Rd: SingleCellExperiment-class, BiocParallelParam BASiCS_MockSCE.Rd: SingleCellExperiment-class BASiCS_PriorParam.Rd: SingleCellExperiment-class BASiCS_ResultVG.Rd: DataFrame-class BASiCS_Sim.Rd: SingleCellExperiment-class BASiCS_VarianceDecomp.Rd: scale_fill_brewer makeExampleBASiCS_Data.Rd: SingleCellExperiment-class newBASiCS_Data.Rd: SingleCellExperiment-class rowData.Rd: DFrame-class Please provide package anchors for all Rd \link{} targets not in the package itself and the base packages. * checking for missing documentation entries ... OK * checking for code/documentation mismatches ... OK * checking Rd \usage sections ... OK * checking Rd contents ... OK * checking for unstated dependencies in examples ... OK * checking contents of ‘data’ directory ... OK * checking data for non-ASCII characters ... OK * checking data for ASCII and uncompressed saves ... OK * checking line endings in C/C++/Fortran sources/headers ... OK * checking line endings in Makefiles ... OK * checking compilation flags in Makevars ... OK * checking for GNU extensions in Makefiles ... OK * checking for portable use of $(BLAS_LIBS) and $(LAPACK_LIBS) ... OK * checking use of PKG_*FLAGS in Makefiles ... OK * checking compiled code ... NOTE Note: information on .o files is not available * checking files in ‘vignettes’ ... OK * checking examples ... OK Examples with CPU (user + system) or elapsed time > 5s user system elapsed BASiCS_TestDE 9.359 0.024 9.408 BASiCS_MCMC 8.101 0.268 8.388 BASiCS_DivideAndConquer 3.561 0.101 21.826 * checking for unstated dependencies in ‘tests’ ... OK * checking tests ... Running ‘testthat.R’ OK * checking for unstated dependencies in vignettes ... OK * checking package vignettes ... OK * checking running R code from vignettes ... SKIPPED * checking re-building of vignette outputs ... SKIPPED * checking PDF version of manual ... OK * DONE Status: 3 NOTEs See ‘/home/biocbuild/bbs-3.21-bioc/meat/BASiCS.Rcheck/00check.log’ for details.