Package: BASiCS Version: 2.19.0 Command: /home/biocbuild/bbs-3.21-bioc/R/bin/R CMD check --install=check:BASiCS.install-out.txt --library=/home/biocbuild/bbs-3.21-bioc/R/site-library --timings BASiCS_2.19.0.tar.gz StartedAt: 2025-02-09 20:10:45 -0500 (Sun, 09 Feb 2025) EndedAt: 2025-02-09 20:20:15 -0500 (Sun, 09 Feb 2025) EllapsedTime: 569.5 seconds RetCode: 0 Status: OK CheckDir: BASiCS.Rcheck Warnings: 0