Package: BASiCS Version: 2.19.0 Command: /home/biocbuild/bbs-3.21-bioc/R/bin/R CMD INSTALL BASiCS StartedAt: 2025-02-12 15:53:55 -0500 (Wed, 12 Feb 2025) EndedAt: 2025-02-12 15:55:09 -0500 (Wed, 12 Feb 2025) EllapsedTime: 73.8 seconds RetCode: 0 Status: OK