Package: BASiCStan Version: 1.9.0 Command: /Library/Frameworks/R.framework/Resources/bin/R CMD check --install=check:BASiCStan.install-out.txt --library=/Library/Frameworks/R.framework/Resources/library --no-vignettes --timings BASiCStan_1.9.0.tar.gz StartedAt: 2025-02-04 18:09:49 -0500 (Tue, 04 Feb 2025) EndedAt: 2025-02-04 18:11:43 -0500 (Tue, 04 Feb 2025) EllapsedTime: 113.2 seconds RetCode: 0 Status: OK CheckDir: BASiCStan.Rcheck Warnings: 0