Package: BASiCStan Version: 1.9.0 Command: /Library/Frameworks/R.framework/Resources/bin/R CMD INSTALL BASiCStan StartedAt: 2025-02-04 15:25:48 -0500 (Tue, 04 Feb 2025) EndedAt: 2025-02-04 15:26:59 -0500 (Tue, 04 Feb 2025) EllapsedTime: 71.3 seconds RetCode: 0 Status: OK