Package: BASiCStan Version: 1.9.0 Command: /home/biocbuild/R/R/bin/R CMD INSTALL BASiCStan StartedAt: 2025-01-29 20:31:47 -0000 (Wed, 29 Jan 2025) EndedAt: 2025-01-29 20:38:19 -0000 (Wed, 29 Jan 2025) EllapsedTime: 392.1 seconds RetCode: 1 Status: ERROR