Package: BASiCStan Version: 1.9.0 Command: /home/biocbuild/bbs-3.21-bioc/R/bin/R CMD INSTALL BASiCStan StartedAt: 2025-02-04 15:53:06 -0500 (Tue, 04 Feb 2025) EndedAt: 2025-02-04 15:57:42 -0500 (Tue, 04 Feb 2025) EllapsedTime: 276.2 seconds RetCode: 0 Status: OK