Package: BASiCStan Version: 1.9.0 Command: rm -rf BASiCStan.buildbin-libdir && mkdir BASiCStan.buildbin-libdir && E:\biocbuild\bbs-3.21-bioc\R\bin\R.exe CMD INSTALL --build --library=BASiCStan.buildbin-libdir BASiCStan_1.9.0.tar.gz StartedAt: 2025-02-05 07:27:56 -0500 (Wed, 05 Feb 2025) EndedAt: 2025-02-05 07:39:35 -0500 (Wed, 05 Feb 2025) EllapsedTime: 699.3 seconds RetCode: 0 Status: OK PackageFile: BASiCStan_1.9.0.zip PackageFileSize: 1.181 MiB