Package: BASiCStan Version: 1.9.0 Command: chmod a+r BASiCStan -R && E:\biocbuild\bbs-3.21-bioc\R\bin\R.exe CMD build --keep-empty-dirs --no-resave-data BASiCStan StartedAt: 2025-02-04 17:17:47 -0500 (Tue, 04 Feb 2025) EndedAt: 2025-02-04 17:24:14 -0500 (Tue, 04 Feb 2025) EllapsedTime: 387.9 seconds RetCode: 0 Status: OK PackageFile: BASiCStan_1.9.0.tar.gz PackageFileSize: 42.49 KiB