Package: BBCAnalyzer Version: 1.37.0 Command: /home/biocbuild/R/R/bin/R CMD build --keep-empty-dirs --no-resave-data BBCAnalyzer StartedAt: 2025-01-29 21:02:45 -0000 (Wed, 29 Jan 2025) EndedAt: 2025-01-29 21:12:35 -0000 (Wed, 29 Jan 2025) EllapsedTime: 590.1 seconds RetCode: 0 Status: OK PackageFile: BBCAnalyzer_1.37.0.tar.gz PackageFileSize: 2.203 MiB